BEGIN:VCALENDAR
VERSION:2.0
PRODID:-//wp-events-plugin.com//6.4.7.1//EN
BEGIN:VEVENT
UID:977@updogchallenge.com
DTSTART:20190910T230000Z
DTEND:20190911T003000Z
DTSTAMP:20190823T145938Z
URL:https://updogchallenge.com/events/winnipeg-mb-ca-sept-9th-river-city-d
 isc-dogs/
SUMMARY:Winnipeg\, MB\, CA - Sept 10th - River City Disc Dogs
DESCRIPTION:\n\n\nContact Name\nShawn MacTavish\n\n\nClub/ORG Name\nRiver C
 ity Disc Dogs\n\n\nContact Email address\nshawn_mactavish2@hotmail.com\n\n
 \nClub State\nManitoba\n\n\n\n\n\n\nEvent location full Address\nBord Aire
  Community Club\, 471 Hampton St. Winnipeg\,Manitoba\, R3J 1P5\n\n\nStart 
 Date\nSeptember 10\, 2019\n\n\nEnd Date\nSeptember 10\, 2019\n\n\nStart Ti
 me\n6:00 PM\n\n\nEnd Time\n7:30 PM\n\n\nGames you want to offer\n7Up\n\n\n
 \n\n\n\nAny other event information?\nSept 9 7-Up\n\n\n
CATEGORIES:UpDog Events
LOCATION:Bord-Aire Community Club\, 471 Hampton Street\, Winnipeg\, Manitob
 a\, R3J 1R1\, Canada
GEO:49.8894696;-97.2113946
X-APPLE-STRUCTURED-LOCATION;VALUE=URI;X-ADDRESS=471 Hampton Street\, Winnip
 eg\, Manitoba\, R3J 1R1\, Canada;X-APPLE-RADIUS=100;X-TITLE=Bord-Aire Comm
 unity Club:geo:49.8894696,-97.2113946
END:VEVENT
END:VCALENDAR