BEGIN:VCALENDAR
VERSION:2.0
PRODID:-//wp-events-plugin.com//6.4.7.1//EN
BEGIN:VEVENT
UID:4062@updogchallenge.com
DTSTART:20250921T130000Z
DTEND:20250921T210000Z
DTSTAMP:20250117T024457Z
URL:https://updogchallenge.com/events/winnipeg-mb-ca-sept-21st-river-city-
 disc-dogs-2/
SUMMARY:Winnipeg\, MB\, CA - Sept 21st - River City Disc Dogs
DESCRIPTION:\n\n\nClub Name\nRiver City Disc Dogs\n\n\nContact Name\nShawna
  Kondratuk\n\n\nContact Email\nrivercitydiscdogs@gmail.com\n\n\nEvent Addr
 ess\n471 Hampton Street\, Winnipeg\, MB R3J1R1\, Canada\n\n\nEvent Start D
 ate\n9/21/2025\n\n\nEvent End Date\n9/21/2025\n\n\nEvent Start Time\n8:00
  AM\n\n\nEvent End Time\n4:00 PM\n\n\nGames Being Played\nTo Be Determined
 \n\n\n
CATEGORIES:UpDog Events
LOCATION:Winnipeg\, MB\, 471 Hampton Street\, Winnipeg\, MB\, Canada
GEO:49.88947;-97.211395
X-APPLE-STRUCTURED-LOCATION;VALUE=URI;X-ADDRESS=471 Hampton Street\, Winnip
 eg\, MB\, Canada;X-APPLE-RADIUS=100;X-TITLE=Winnipeg\, MB:geo:49.88947,-97
 .211395
END:VEVENT
END:VCALENDAR