BEGIN:VCALENDAR
VERSION:2.0
PRODID:-//wp-events-plugin.com//6.4.7.1//EN
BEGIN:VEVENT
UID:1980@updogchallenge.com
DTSTART:20220717T150000Z
DTEND:20220717T230000Z
DTSTAMP:20220622T221635Z
URL:https://updogchallenge.com/events/wingdale-ny-us-july-16th-17th-h2d2/
SUMMARY:Wingdale\, NY\, US - July 17th - H2D2
DESCRIPTION:\n\n\nCLUB NAME\nH2D2\n\n\nCONTACT NAME\nCor Brewer\n\n\nCONTAC
 T EMAIL\nBrewerad@aol.com\n\n\nEVENT ADDRESS\nBoyce Park\, 6420 State Rt 5
 5\, Wingdale\, New York 12594\, United States\n\n\nEVENT START DATE\n7/17/
 2022\n\n\nEVENT END DATE\n7/17/2022\n\n\nEVENT START TIME\n10:00 AM\n\n\n
 EVENT END TIME\n6:00 PM\n\n\nGAMES BEING PLAYED\nTo Be Determined\n\n\nADD
 ITIONAL EVENT INFORMATION FOR PARTICIPANTS\nPre-Registration on our websit
 e H2D2DiscDogs.com\n\n\n
CATEGORIES:UpDog Events
LOCATION:Boyce Park\, 6420 State Rte 55\, Wingdale\, NY\, United States
GEO:41.646899;-73.55230799999998
X-APPLE-STRUCTURED-LOCATION;VALUE=URI;X-ADDRESS=6420 State Rte 55\, Wingdal
 e\, NY\, United States;X-APPLE-RADIUS=100;X-TITLE=Boyce Park:geo:41.646899
 ,-73.55230799999998
END:VEVENT
END:VCALENDAR