BEGIN:VCALENDAR
VERSION:2.0
PRODID:-//wp-events-plugin.com//6.4.7.1//EN
BEGIN:VEVENT
UID:1417@updogchallenge.com
DTSTART:20201101T140000Z
DTEND:20201101T220000Z
DTSTAMP:20200919T180849Z
URL:https://updogchallenge.com/events/willimantic-ct-us-nov-1st-central-k9
 /
SUMMARY:Willimantic\, CT\, US - Nov 1st - Central K9
DESCRIPTION:\n\n\nCLUB NAME\nCentral K9\n\n\nCONTACT NAME\nJessica Edgerly\
 n\n\nCONTACT EMAIL\ncentralk9dogs@gmail.com\n\n\nEVENT ADDRESS\n138 bush 
 hill rd\, Willimantic\, CT 06226\, United States\n\n\nEVENT START DATE\n1
 1/1/2020\n\n\nEVENT END DATE\n11/1/2020\n\n\nEVENT START TIME\n9:03 AM\n
 \n\nEVENT END TIME\n5:03 PM\n\n\nGAMES BEING PLAYED\nFar Out\nFunKey\n7Up
 \nSpaced Out\n\n\n
CATEGORIES:UpDog Events
LOCATION:Willimantic\, CT\, 138 Bush Hill Rd\, Willimantic\, CT\, 06226\, U
 nited States
GEO:41.6896175;-72.19287429999997
X-APPLE-STRUCTURED-LOCATION;VALUE=URI;X-ADDRESS=138 Bush Hill Rd\, Williman
 tic\, CT\, 06226\, United States;X-APPLE-RADIUS=100;X-TITLE=Willimantic\, 
 CT:geo:41.6896175,-72.19287429999997
END:VEVENT
END:VCALENDAR