BEGIN:VCALENDAR
VERSION:2.0
PRODID:-//wp-events-plugin.com//6.4.7.1//EN
BEGIN:VEVENT
UID:1240@updogchallenge.com
DTSTART:20200627T133000Z
DTEND:20200627T213000Z
DTSTAMP:20200609T182204Z
URL:https://updogchallenge.com/events/willimantic-ct-us-june-27th-central-
 k9/
SUMMARY:Willimantic\, CT\, US - June 27th - Central K9
DESCRIPTION:\n\n\nContact Name\nJessica Edgerly\n\n\nClub/ORG Name\ncentral
  k9\n\n\nContact Email address\ncentralk9dogs@gmail.com\n\n\nClub State\n
 CT\n\n\n\n\n\n\nEvent location full Address\n138 bush hill rd willimantic 
 ct\n\n\nStart Date\nJune 27\, 2020\n\n\nEnd Date\nJune 27\, 2020\n\n\nStar
 t Time\n8:30 AM\n\n\nEnd Time\n4:30 PM\n\n\nGames you want to offer\n4WayP
 lay\, ThrowNGo\, Frizgility\, Time Warp\, Greedy\n\n\n
CATEGORIES:UpDog Events
LOCATION:Willimantic\, CT\, 138 Bush Hill Rd\, Willimantic\, CT\, 06226\, U
 nited States
GEO:41.6896175;-72.19287429999997
X-APPLE-STRUCTURED-LOCATION;VALUE=URI;X-ADDRESS=138 Bush Hill Rd\, Williman
 tic\, CT\, 06226\, United States;X-APPLE-RADIUS=100;X-TITLE=Willimantic\, 
 CT:geo:41.6896175,-72.19287429999997
END:VEVENT
END:VCALENDAR