BEGIN:VCALENDAR
VERSION:2.0
PRODID:-//wp-events-plugin.com//6.4.7.1//EN
BEGIN:VEVENT
UID:2092@updogchallenge.com
DTSTART:20220423T140000Z
DTEND:20220424T220000Z
DTSTAMP:20220415T141223Z
URL:https://updogchallenge.com/events/washingtonville-oh-us-april-23rd-24t
 h-four-seasons-k9-athlete-center/
SUMMARY:Washingtonville\, OH\, US - April 23rd & 24th - Four Seasons K9 Ath
 lete Center
DESCRIPTION:\n\n\nCLUB NAME\nFour Seasons K9 Athlete Center\n\n\nCONTACT NA
 ME\nSusan Zimmerman\n\n\nCONTACT EMAIL\nspotalot2@aol.com\n\n\nEVENT ADDRE
 SS\n2 Painters Path\, Washingtonville\, OH 44490\, United States\n\n\nEVEN
 T START DATE\n4/23/2022\n\n\nEVENT END DATE\n4/24/2022\n\n\nEVENT START T
 IME\n9:00 AM\n\n\nEVENT END TIME\n5:00 PM\n\n\nGAMES BEING PLAYED\nFour Wa
 y Play\nFrizgility\nFunKey\nGreedy\n7Up\nSpaced Out\nThrow N Go\nTime Warp
 \n\nPairs Throw N Go\n\n\n\nEvent Flyer Click Here
CATEGORIES:UpDog Events
LOCATION:Washingtonville\, OH\, 2 Painters Path\, Washingtonville\, OH\, 44
 490\, United States
GEO:40.896958;-80.773832
X-APPLE-STRUCTURED-LOCATION;VALUE=URI;X-ADDRESS=2 Painters Path\, Washingto
 nville\, OH\, 44490\, United States;X-APPLE-RADIUS=100;X-TITLE=Washingtonv
 ille\, OH:geo:40.896958,-80.773832
END:VEVENT
END:VCALENDAR