BEGIN:VCALENDAR
VERSION:2.0
PRODID:-//wp-events-plugin.com//6.4.7.1//EN
BEGIN:VEVENT
UID:886@updogchallenge.com
DTSTART:20190710T230000Z
DTEND:20190711T010000Z
DTSTAMP:20190625T203349Z
URL:https://updogchallenge.com/events/valparaiso-in-us-july-10th-michiana-
 scent-work-club/
SUMMARY:Valparaiso\, IN\, US - July 10th - Michiana Scent Work Club
DESCRIPTION:\n\n\nContact Name\nSharon Jonas\n\n\nClub/ORG Name\nMichiana S
 cent Work Club\n\n\nContact Email address\ngizmogreentrees@yahoo.com\n\n\n
 Club State\nIN\n\n\n\n\n\n\nEvent location full Address\nRoyal Acres Pet C
 amp\, 3554 Sturdy Road\, Valparaiso\, IN 46385\n\n\nStart Date\nJuly 10\, 
 2019\n\n\nEnd Date\nJuly 10\, 2019\n\n\nStart Time\n6:00 PM\n\n\nEnd Time\
 n8:00 PM\n\n\nGames you want to offer\nThrowNGo\n\n\nAny other event infor
 mation?\n15.00 each run\npay pal gizmogreentrees@yahoo.com\n\n\n
CATEGORIES:UpDog Events
LOCATION:Royal Acres Country Club\, 3554 Sturdy Road\, Valparaiso\, IN\, 46
 383\, United States
GEO:41.4360771;-87.0370704
X-APPLE-STRUCTURED-LOCATION;VALUE=URI;X-ADDRESS=3554 Sturdy Road\, Valparai
 so\, IN\, 46383\, United States;X-APPLE-RADIUS=100;X-TITLE=Royal Acres Cou
 ntry Club:geo:41.4360771,-87.0370704
END:VEVENT
END:VCALENDAR