BEGIN:VCALENDAR
VERSION:2.0
PRODID:-//wp-events-plugin.com//6.4.7.1//EN
BEGIN:VEVENT
UID:269@updogchallenge.com
DTSTART:20170624T140000Z
DTEND:20170625T210000Z
DTSTAMP:20170425T224338Z
URL:https://updogchallenge.com/events/updog-polska-kaputy-june-24-25/
SUMMARY:UpDog Polska\, Kaputy June 24 - 25
DESCRIPTION:Contact \nDariusz Radomski\ndariusz.ra@gmail.com\n\nEvent loca
 tion\nDog Games Summer\, Sochaczewska 218\, 05850 Kaputy\, Poland\n\nJune 
 24 - 25\n\n9:00 AM - 4:00 PM\n\nGames: \nThrowNGo\, Frizgility\, Spaced O
 ut\, Time Warp
CATEGORIES:UpDog Events
LOCATION:Dog Games Summer\, Sochaczewska 218\, 05850 Kaputy\, Poland
GEO:52.2315199;20.799311999999986
X-APPLE-STRUCTURED-LOCATION;VALUE=URI;X-ADDRESS=Sochaczewska 218\, 05850 Ka
 puty\, Poland;X-APPLE-RADIUS=100;X-TITLE=Dog Games Summer:geo:52.2315199,2
 0.799311999999986
END:VEVENT
END:VCALENDAR