BEGIN:VCALENDAR
VERSION:2.0
PRODID:-//wp-events-plugin.com//6.4.7.1//EN
BEGIN:VEVENT
UID:297@updogchallenge.com
DTSTART:20170826T214500Z
DTEND:20170827T010000Z
DTSTAMP:20170531T025613Z
URL:https://updogchallenge.com/events/updog-after-dark-5-spring-hill-fl/
SUMMARY:UpDog after Dark #5 Spring Hill FL
DESCRIPTION:&nbsp\;\n\n# 5 26-Aug   Frizgility  Far Out Pairs Game (if t
 ime allows)\nhttps://www.facebook.com/events/1537378086303227/\n\n# 6 9-Se
 p   FunKey 4 Way Play Time Warp Freestyle\nhttps://www.facebook.com/even
 ts/1849111815415019/\n\n5pm – players meeting at 4:45pm\nSpring Hill\, F
 L (See FB page for event for exact location)\n$35 for all 3 games or $13 p
 er individual game\nDay of show entries will be allowed if this event does
  not fill. $14 per game.
CATEGORIES:UpDog Events
LOCATION:Veterans Memorial Park in Spring Hill\, 12254 Spring Hill Dr\,  Sp
 ring Hill\, Florida\, 34609\, United States
GEO:28.461319;-82.519608
X-APPLE-STRUCTURED-LOCATION;VALUE=URI;X-ADDRESS=12254 Spring Hill Dr\,  Spr
 ing Hill\, Florida\, 34609\, United States;X-APPLE-RADIUS=100;X-TITLE=Vete
 rans Memorial Park in Spring Hill:geo:28.461319,-82.519608
END:VEVENT
END:VCALENDAR