BEGIN:VCALENDAR
VERSION:2.0
PRODID:-//wp-events-plugin.com//6.4.7.1//EN
BEGIN:VEVENT
UID:496@updogchallenge.com
DTSTART;VALUE=DATE:20180506
DTEND;VALUE=DATE:20180507
DTSTAMP:20180409T183236Z
URL:https://updogchallenge.com/events/tyler-tx-us-may-6th/
SUMMARY:Tyler\, TX\, US - May 6th
DESCRIPTION:\n\n\nContact Name\nBill McFarlin\n\n\nClub/ORG Name\nIndividua
 l\n\n\nContact Email address\nBmcfarlin@suddenlink.net\n\n\nClub State\nTe
 xas\n\n\nContacts Mobile Phone\n903-570-5400\n\n\nEvent location full Addr
 ess\n12558 Spur 364 Tyler\, Texas 75709-5369\n\n\nStart Date\nMay 6\, 2018
 \n\n\nEnd Date\nMay 6\, 2018\n\n\nGames you want to offer\n4WayPlay\, Thro
 wNGo\, Frizgility\n\n\n
CATEGORIES:UpDog Events
LOCATION:Tyler\, TX\, 12558 Spur 364\, Tyler\, TX\, 75709\, United States
GEO:32.31776300000001;-95.37622599999997
X-APPLE-STRUCTURED-LOCATION;VALUE=URI;X-ADDRESS=12558 Spur 364\, Tyler\, TX
 \, 75709\, United States;X-APPLE-RADIUS=100;X-TITLE=Tyler\, TX:geo:32.3177
 6300000001,-95.37622599999997
END:VEVENT
END:VCALENDAR