BEGIN:VCALENDAR
VERSION:2.0
PRODID:-//wp-events-plugin.com//6.4.7.1//EN
BEGIN:VEVENT
UID:222@updogchallenge.com
DTSTART:20170225T140000Z
DTEND:20170226T220000Z
DTSTAMP:20170117T032211Z
URL:https://updogchallenge.com/events/tn-feb-25-26/
SUMMARY:TN Feb 25 26
DESCRIPTION:Contact : Karen Echternacht\nCanines By Karen\nkarenscaninecomp
 anions@gmail.com\n\nEvent location : Finny Farm\, 6474 Morganton Road\, Gr
 eenback\, TN 37742\nFebruary 25\,26 2017\n\n9:00 AM\nGames: 4WayPlay\, Fri
 zgility\, Spaced Out\, Time Warp\n\n2 rounds of each of the four games\, e
 ach day
CATEGORIES:UpDog Events
LOCATION:Finny Farm\,\, 6474 Morganton Road\, Greenback\, TN \, 37742\, Uni
 ted States
GEO:35.6675061;-84.1627408
X-APPLE-STRUCTURED-LOCATION;VALUE=URI;X-ADDRESS=6474 Morganton Road\, Green
 back\, TN \, 37742\, United States;X-APPLE-RADIUS=100;X-TITLE=Finny Farm\,
 :geo:35.6675061,-84.1627408
END:VEVENT
END:VCALENDAR