BEGIN:VCALENDAR
VERSION:2.0
PRODID:-//wp-events-plugin.com//6.4.7.1//EN
BEGIN:VEVENT
UID:1703@updogchallenge.com
DTSTART:20210617T200000Z
DTEND:20210618T000000Z
DTSTAMP:20210522T192437Z
URL:https://updogchallenge.com/events/tiskilwa-il-us-june-17th-harmony-tra
 ining-club/
SUMMARY:Tiskilwa\, IL\, US - June 17th - Harmony Training Club
DESCRIPTION:\n\n\nCLUB NAME\nHarmony Training Club\n\n\nCONTACT NAME\nLynet
 te VandeVenter\n\n\nCONTACT EMAIL\nfirstharmonyfarms@yahoo.com\n\n\nEVENT
  ADDRESS\n145 N JEFFERSON ST\, TISKILWA\, IL 61368\, United States\n\n\nE
 VENT START DATE\n6/17/2021\n\n\nEVENT END DATE\n6/17/2021\n\n\nEVENT ST
 ART TIME\n3:00 PM\n\n\nEVENT END TIME\n7:00 PM\n\n\nGAMES BEING PLAYED\nF
 rizgility\n\n\nADDITIONAL EVENT INFORMATION FOR PARTICIPANTS\nBite Club 
 runs followed by some extra UpDog runs-agility classes if weather allows f
 or safe jumping\n\n\n
CATEGORIES:UpDog Events
LOCATION:Tiskilwa\, IL\, 145 N JEFFERSON ST\, Tiskilwa\, IL\, 61368\, Unite
 d States
GEO:41.292637;-89.514193
X-APPLE-STRUCTURED-LOCATION;VALUE=URI;X-ADDRESS=145 N JEFFERSON ST\, Tiskil
 wa\, IL\, 61368\, United States;X-APPLE-RADIUS=100;X-TITLE=Tiskilwa\, IL:g
 eo:41.292637,-89.514193
END:VEVENT
END:VCALENDAR