BEGIN:VCALENDAR
VERSION:2.0
PRODID:-//wp-events-plugin.com//6.4.7.1//EN
BEGIN:VEVENT
UID:4952@updogchallenge.com
DTSTART:20260606T130000Z
DTEND:20260607T213000Z
DTSTAMP:20260130T013819Z
URL:https://updogchallenge.com/events/sultan-wa-us-june-6th-7th-evergreen-
 disc-dogs/
SUMMARY:Sultan\, WA\, US - June 6th & 7th - Evergreen Disc Dogs - Crossover
  Crown
DESCRIPTION:\n\n\nClub Name\nEvergreen Disc Dogs\n\n\nContact Name\nRaena L
 orio\n\n\nContact Email\nrdh112403@gmail.com\n\n\nEvent Address\n617 1st S
 t\, Sultan\, WA 98294\, United States\n\n\nEvent Start Date\n6/6/2026\n\n\
 nEvent End Date\n6/7/2026\n\n\nEvent Start Time\n8:00 AM\n\n\nEvent End T
 ime\n4:30 PM\n\n\nGames Being Played\nBoom!\nFar Out\nFireball\nFour Way P
 lay\nFreestyle\nFrizgility\nFunKey\nGreedy\n7Up\nSpaced Out\nThrow N Go\nT
 ime Warp\nPairs Four Way Play\n\n\nFar Out Field Length in Yards:\n100\n\n
 \n
CATEGORIES:Crossover Crown,UpDog Events
LOCATION:Sultan\, Washington\, 617 1st St\, Sultan\, WA\, 98223\, United St
 ates
X-APPLE-STRUCTURED-LOCATION;VALUE=URI;X-ADDRESS=617 1st St\, Sultan\, WA\, 
 98223\, United States;X-APPLE-RADIUS=100;X-TITLE=Sultan\, Washington:geo:0
 ,0
END:VEVENT
END:VCALENDAR