BEGIN:VCALENDAR
VERSION:2.0
PRODID:-//wp-events-plugin.com//6.4.7.1//EN
BEGIN:VEVENT
UID:3196@updogchallenge.com
DTSTART:20231208T130000Z
DTEND:20231210T220000Z
DTSTAMP:20231129T014239Z
URL:https://updogchallenge.com/events/sultan-wa-us-dec-8th-thru-10th-everg
 reen-disc-dogs/
SUMMARY:Sultan\, WA\, US - Dec 8th thru 10th - Evergreen Disc Dogs
DESCRIPTION:\n\n\nCLUB NAME\nEvergreen Disc Dogs\n\n\nCONTACT NAME\nCorey P
 olis\n\n\nCONTACT EMAIL\nevergreendiscdogs@gmail.com\n\n\nEVENT ADDRESS\n7
 05 1st St\, Sultan\, WA 98294\, United States\n\n\nEVENT START DATE\n12/8/
 2023\n\n\nEVENT END DATE\n12/10/2023\n\n\nEVENT START TIME\n8:00 AM\n\n\n
 EVENT END TIME\n5:00 PM\n\n\nGAMES BEING PLAYED\nTo Be Determined\n\n\nADD
 ITIONAL EVENT INFORMATION FOR PARTICIPANTS\nPoints only fun trial\, work o
 n techniques and build up points. See facebook group evergreen disc dogs f
 or all info\n\n\n
CATEGORIES:UpDog Events
LOCATION:Sultan\, Washington\, 705 First St\, Sultan\, WA\, 98294\, United 
 States
GEO:47.868857;-121.821156
X-APPLE-STRUCTURED-LOCATION;VALUE=URI;X-ADDRESS=705 First St\, Sultan\, WA\
 , 98294\, United States;X-APPLE-RADIUS=100;X-TITLE=Sultan\, Washington:geo
 :47.868857,-121.821156
END:VEVENT
END:VCALENDAR