BEGIN:VCALENDAR
VERSION:2.0
PRODID:-//wp-events-plugin.com//6.4.7.1//EN
BEGIN:VEVENT
UID:1836@updogchallenge.com
DTSTART:20211002T150000Z
DTEND:20211002T220000Z
DTSTAMP:20210820T144954Z
URL:https://updogchallenge.com/events/sturgeon-county-ab-ca-oct-2nd-edmont
 on-disc-dog-club/
SUMMARY:Sturgeon County\, AB\, CA - Oct 2nd - Edmonton Disc Dog Club
DESCRIPTION:\n\n\nCLUB NAME\nEdmonton disc dog club\n\n\nCONTACT NAME\nNico
 le Monson\n\n\nCONTACT EMAIL\ninfo@edmontondiscdogclub.ca\n\n\nEVENT ADDRE
 SS\n57503 RR 253\, Sturgeon county\, Alberta T0a1k0\, Canada\n\n\nEVENT ST
 ART DATE\n10/2/2021\n\n\nEVENT END DATE\n10/2/2021\n\n\nEVENT START TIME\
 n10:00 AM\n\n\nEVENT END TIME\n5:00 PM\n\n\nGAMES BEING PLAYED\nFour Way P
 lay\nGreedy\nSpaced Out\nThrow N Go\nTime Warp\n\n\n
CATEGORIES:UpDog Events
LOCATION:Sturgeon County - AB\, 57503 RR 253\, Sturgeon County\, AB\, T0G 1
 L1\, Canada
GEO:53.960484;-113.643308
X-APPLE-STRUCTURED-LOCATION;VALUE=URI;X-ADDRESS=57503 RR 253\, Sturgeon Cou
 nty\, AB\, T0G 1L1\, Canada;X-APPLE-RADIUS=100;X-TITLE=Sturgeon County - A
 B:geo:53.960484,-113.643308
END:VEVENT
END:VCALENDAR