BEGIN:VCALENDAR
VERSION:2.0
PRODID:-//wp-events-plugin.com//6.4.7.1//EN
BEGIN:VEVENT
UID:502@updogchallenge.com
DTSTART:20180429T173000Z
DTEND:20180429T220000Z
DTSTAMP:20180413T221826Z
URL:https://updogchallenge.com/events/st-louis-woofs-for-wellness/
SUMMARY:St Louis Woofs  for Wellness
DESCRIPTION:How about a few games at Frontier park\, right by the river in 
 St Charles!  What a cool place to show off some UpDog skills and rack up 
 a few points while you are at it.\nhttp://www.stcharlesparks.com/park/fron
 tier-park/\n\nThrownGo L1 or 2  at 1pm\n\n4WayPlay L1 at 2:15\n\nand\n\nF
 rizgility L1 at 3:30\n\nLimited to just 25 teams per game\nThis will be op
 en to a few walk up teams but space can not be guaranteed so please pre-re
 gister to save your spot.\nOur first event of the year will be $7 per roun
 d or $20 for all 3 rounds (per dog/team)\n\nThe park will put up fencing a
 round our field - there are bathrooms nearby.\n\n[dt_button size="medium" 
 animation="none" icon="" icon_align="left" color="orange" link="https://up
 dogchallenge.com/product/woofs-for-wellness-april-29-in-st-louis/" target_
 blank="true"]Register[/dt_button]
CATEGORIES:UpDog Events
LOCATION:Frontier Park\, 500 S Riverside Dr\, St Charles\, MO\, 63301\, Uni
 ted States
GEO:38.7773222;-90.48233349999998
X-APPLE-STRUCTURED-LOCATION;VALUE=URI;X-ADDRESS=500 S Riverside Dr\, St Cha
 rles\, MO\, 63301\, United States;X-APPLE-RADIUS=100;X-TITLE=Frontier Park
 :geo:38.7773222,-90.48233349999998
END:VEVENT
END:VCALENDAR