BEGIN:VCALENDAR
VERSION:2.0
PRODID:-//wp-events-plugin.com//6.4.7.1//EN
BEGIN:VEVENT
UID:1910@updogchallenge.com
DTSTART:20211114T180000Z
DTEND:20211114T230000Z
DTSTAMP:20211101T155519Z
URL:https://updogchallenge.com/events/st-johns-mi-us-nov-14th-leashed-favo
 rite-dog-club/
SUMMARY:St Johns\, MI\, US - Nov 14th - Leashed Favorite Dog Club
DESCRIPTION:\n\n\nCLUB NAME\nLeashed Favorite Dog Club\n\n\nCONTACT NAME\nA
 shley Kutzli\n\n\nCONTACT EMAIL\nleashedfavorite@gmail.com\n\n\nEVENT ADD
 RESS\n712 W Gibbs St\, St Johns\, Mi 48879\, United States\n\n\nEVENT STA
 RT DATE\n11/14/2021\n\n\nEVENT END DATE\n11/14/2021\n\n\nEVENT START TIM
 E\n1:00 PM\n\n\nEVENT END TIME\n6:00 PM\n\n\nGAMES BEING PLAYED\nFour Way
  Play\nSpaced Out\nThrow N Go\nTime Warp\n\n\nADDITIONAL EVENT INFORMATI
 ON FOR PARTICIPANTS\nIn addition to week 2 Bite Club\n\n\n
CATEGORIES:UpDog Events
LOCATION:St Johns\, MI\, 713 W Gibbs Street\, St Johns\, MI\, 48879\, Unite
 d States
GEO:43.008819;-84.567383
X-APPLE-STRUCTURED-LOCATION;VALUE=URI;X-ADDRESS=713 W Gibbs Street\, St Joh
 ns\, MI\, 48879\, United States;X-APPLE-RADIUS=100;X-TITLE=St Johns\, MI:g
 eo:43.008819,-84.567383
END:VEVENT
END:VCALENDAR