BEGIN:VCALENDAR
VERSION:2.0
PRODID:-//wp-events-plugin.com//6.4.7.1//EN
BEGIN:VEVENT
UID:2697@updogchallenge.com
DTSTART:20230402T170000Z
DTEND:20230402T210000Z
DTSTAMP:20230327T152416Z
URL:https://updogchallenge.com/events/st-johns-mi-us-april-2nd-leashed-fav
 orite-dog-club/
SUMMARY:St Johns\, MI\, US - April 2nd - Leashed Favorite Dog Club
DESCRIPTION:\n\n\nCLUB NAME\nLeashed Favorite Dog Club\n\n\nCONTACT NAME\nA
 shley Kutzli\n\n\nCONTACT EMAIL\nleashedfavorite@gmail.com\n\n\nEVENT ADDR
 ESS\n712 W. Gibbs Street\, St. Johns\, MI 48879\, United States\n\n\nEVENT
  START DATE\n4/2/2023\n\n\nEVENT END DATE\n4/2/2023\n\n\nEVENT START TIME
 \n12:00 PM\n\n\nEVENT END TIME\n4:00 PM\n\n\nGAMES BEING PLAYED\nTo Be Det
 ermined\n\n\n
CATEGORIES:UpDog Events
LOCATION:St Johns\, MI\, 713 W Gibbs Street\, St Johns\, MI\, 48879\, Unite
 d States
GEO:43.008819;-84.567383
X-APPLE-STRUCTURED-LOCATION;VALUE=URI;X-ADDRESS=713 W Gibbs Street\, St Joh
 ns\, MI\, 48879\, United States;X-APPLE-RADIUS=100;X-TITLE=St Johns\, MI:g
 eo:43.008819,-84.567383
END:VEVENT
END:VCALENDAR