BEGIN:VCALENDAR
VERSION:2.0
PRODID:-//wp-events-plugin.com//6.4.7.1//EN
BEGIN:VEVENT
UID:463@updogchallenge.com
DTSTART;VALUE=DATE:20180506
DTEND;VALUE=DATE:20180507
DTSTAMP:20180323T183305Z
URL:https://updogchallenge.com/events/st-cloud-mn-us-may-6th-whispering-ec
 hos-farm/
SUMMARY:St Cloud\, MN\, US - May 6th - Whispering Echos Farm
DESCRIPTION:\n\n\n\n\n\n\n\n\n\n\nContact Name\nMelissa LaMere-Dragovich\n\
 n\nClub/ORG Name\nWhispering Echos Farm\n\n\nContact Email address\ncdx@ho
 tmail.com\n\n\nClub State\nMN\n\n\n\n\n\n\nEvent location full Address\n34
 46 2nd ST S.E.. St. Cloud\, MN 56304\n\n\nStart Date\nMay 6\, 2018\n\n\nEn
 d Date\nMay 6\, 2018\n\n\n\n\n\n\nGames offered\n4WayPlay\, Frizgility\, T
 ime Warp\n\n\n\n\n\n\nAny other event information?\nThis event will be hel
 d in a fully fenced agility field.\n\n\n\n\n\n\n\n\n\n\n\n\n\n\n\n\n\n\n\n
 \n\n\n\n\n\n\n\n\n\n\n\n\n\n\n
CATEGORIES:UpDog Events
LOCATION:Whispering Echo Farm\, 3446 2nd ST S.E.\, St Cloud\, MN\, 56304\, 
 United States
GEO:45.565723;-94.092918
X-APPLE-STRUCTURED-LOCATION;VALUE=URI;X-ADDRESS=3446 2nd ST S.E.\, St Cloud
 \, MN\, 56304\, United States;X-APPLE-RADIUS=100;X-TITLE=Whispering Echo F
 arm:geo:45.565723,-94.092918
END:VEVENT
END:VCALENDAR