BEGIN:VCALENDAR
VERSION:2.0
PRODID:-//wp-events-plugin.com//6.4.7.1//EN
BEGIN:VEVENT
UID:758@updogchallenge.com
DTSTART:20190602T150000Z
DTEND:20190602T210000Z
DTSTAMP:20190203T164349Z
URL:https://updogchallenge.com/events/st-cloud-mn-us-june-2nd-whispering-e
 chos-farm/
SUMMARY:St Cloud\, MN\, US - June 2nd - Whispering Echos Farm
DESCRIPTION:\n\n\nContact Name\nMelissa LaMere-Dragovich\n\n\nClub/ORG Name
 \nWhispering Echos Farm\n\n\nContact Email address\ncdx@hotmail.com\n\n\nC
 lub State\nUnited States\n\n\n\n\n\n\nEvent location full Address\nExcel 
 Dog Training Inc\, 3446 2nd St SE # 1\, St Cloud\, MN 56304\n\n\nStart Dat
 e\nJune 2\, 2019\n\n\nEnd Date\nJune 2\, 2019\n\n\nStart Time\n10:00 AM\n\
 n\nEnd Time\n4:00 AM\n\n\nGames you want to offer\n4WayPlay\, Frizgility\,
  Spaced Out\, Freestyle\, Time Warp\n\n\n\n\n\n\nAny other event informati
 on?\nFreestyle- level 1- performance round only\n\nThis event will follow 
 a 2 day Abby Cline Seminar!\n\n\n
CATEGORIES:UpDog Events
LOCATION:Excel Dog Training\, 3446 2nd St SE # 1\, St Cloud\, MN\, 56304\, 
 United States
GEO:45.565723;-94.092918
X-APPLE-STRUCTURED-LOCATION;VALUE=URI;X-ADDRESS=3446 2nd St SE # 1\, St Clo
 ud\, MN\, 56304\, United States;X-APPLE-RADIUS=100;X-TITLE=Excel Dog Train
 ing:geo:45.565723,-94.092918
END:VEVENT
END:VCALENDAR