BEGIN:VCALENDAR
VERSION:2.0
PRODID:-//wp-events-plugin.com//6.4.7.1//EN
BEGIN:VEVENT
UID:2366@updogchallenge.com
DTSTART:20221009T133000Z
DTEND:20221009T220000Z
DTSTAMP:20220912T220003Z
URL:https://updogchallenge.com/events/springhill-ns-ca-oct-9th-simcoe-disc
 -dogs/
SUMMARY:Springhill\, NS\, CA - Oct 9th - Simcoe Disc Dogs
DESCRIPTION:\n\n\nCLUB NAME\nSimcoe Disc Dogs\n\n\nCONTACT NAME\nMary Denis
 e Williamson\n\n\nCONTACT EMAIL\nsimcoediscdogs@gmail.com\n\n\nEVENT ADDRE
 SS\n6 Main Street\, Dr Carson &amp\; Marion Murray Community Center\, Spri
 nghill\, NS B0M 1X0\, Canada\n\n\nEVENT START DATE\n10/9/2022\n\n\nEVENT E
 ND DATE\n10/9/2022\n\n\nEVENT START TIME\n8:30 AM\n\n\nEVENT END TIME\n5:
 00 PM\n\n\nGAMES BEING PLAYED\nBoom!\nFour Way Play\nFunKey\nGreedy\nThrow
  N Go\n\n\nADDITIONAL EVENT INFORMATION FOR PARTICIPANTS\nThis is a walkup
  event. Teams may purchase a ten run card and use up to three runs per gam
 e. Only one run will count for placings\, but all points will count.\n\n\n
CATEGORIES:UpDog Events
LOCATION:r Carson & Marion Murray Community Center\, Springhill\, NS\, 6 Ma
 in Street\, Springhill\, NS\, B0M 1X0\, Canada
GEO:45.647962;-64.062562
X-APPLE-STRUCTURED-LOCATION;VALUE=URI;X-ADDRESS=6 Main Street\, Springhill\
 , NS\, B0M 1X0\, Canada;X-APPLE-RADIUS=100;X-TITLE=r Carson & Marion Murra
 y Community Center\, Springhill\, NS:geo:45.647962,-64.062562
END:VEVENT
END:VCALENDAR