BEGIN:VCALENDAR
VERSION:2.0
PRODID:-//wp-events-plugin.com//6.4.7.1//EN
BEGIN:VEVENT
UID:2153@updogchallenge.com
DTSTART:20220717T130000Z
DTEND:20220717T190000Z
DTSTAMP:20220524T190558Z
URL:https://updogchallenge.com/events/spring-hill-fl-us-july-17th-cfddc/
SUMMARY:Spring Hill\, FL\, US - July 17th - CFDDC
DESCRIPTION:\n\n\nCLUB NAME\nCFDDC - It's Far Out 2\n\n\nCONTACT NAME\nJenn
 ifer Brown\n\n\nCONTACT EMAIL\njenbrowndvm@gmail.com\n\n\nEVENT ADDRESS\n1
 360 Anderson Snow Rd\, Spring Hill\, FL 34609\, United States\n\n\nEVENT S
 TART DATE\n7/17/2022\n\n\nEVENT END DATE\n7/17/2022\n\n\nEVENT START TIME
 \n8:00 AM\n\n\nEVENT END TIME\n2:00 PM\n\n\nGAMES BEING PLAYED\nFar Out\nS
 paced Out\nThrow N Go\n\n\nADDITIONAL EVENT INFORMATION FOR PARTICIPANTS\n
 CFDDC - It's Far Out 2. In our 2nd of 3 It's Far Out series CFDDC will be 
 offering a single round of Far Out along with Spaced Out and Throw and go.
 \n\nRegister HERE!\n\n\n
CATEGORIES:UpDog Events
LOCATION:Anderson Snow Park\, 1360 Anderson Snow Rd\, Spring Hill\, FL\, 34
 609\, United States
GEO:28.459168;-82.48444999999998
X-APPLE-STRUCTURED-LOCATION;VALUE=URI;X-ADDRESS=1360 Anderson Snow Rd\, Spr
 ing Hill\, FL\, 34609\, United States;X-APPLE-RADIUS=100;X-TITLE=Anderson 
 Snow Park:geo:28.459168,-82.48444999999998
END:VEVENT
END:VCALENDAR