BEGIN:VCALENDAR
VERSION:2.0
PRODID:-//wp-events-plugin.com//6.4.7.1//EN
BEGIN:VEVENT
UID:2084@updogchallenge.com
DTSTART:20220508T160000Z
DTEND:20220522T220000Z
DTSTAMP:20220403T134524Z
URL:https://updogchallenge.com/events/southbridge-ma-us-may-8th-22nd-bite-
 club-boston-area-disc-dogs/
SUMMARY:Southbridge\, MA\, US - May 8th & 22nd - Bite Club - Boston Area Di
 sc Dogs
DESCRIPTION:\n\n\nCLUB NAME\nBoston Area Disc Dogs\n\n\nCONTACT NAME\nDEBOR
 AH TAYLOR\n\n\nCONTACT EMAIL\nbaddogs617@gmail.com\n\n\nPRIMARY BITE CLUB 
 CONTACT FOR YOUR GROUP - NAME AND EMAIL ADDRESS.  THIS IS THE PERSON RESP
 ONSIBLE FOR SUBMITTING SCORES\, RECEIVING COMMUNICATION AND THE EMAIL ADDR
 ESS WHERE INVOICES WILL GO TO.\nConcetta Boschetto\nDeborah Taylor\nbaddog
 s617@gmail.com\n\n\nARE YOU REGISTERING ADDITIONAL GAMES FOR THIS(THESE) E
 VENT(S) IN ADDITION TO THE PUBLISHED BITE CLUB GAMES?\nNo\n\n\nNOTES TO UP
 DOG ABOUT YOUR BITE CLUB EVENT(S)\nWe are doing weeks 1-2: May 8th and wee
 ks 3-4 may 22nd\n\n\nEVENT ADDRESS\n120 Dudley River Rd\, Southbridge\, MA
  01550\, United States\n\n\nEVENT START DATE\n5/8/2022\n\n\nEVENT END DATE
 \n5/22/2022\n\n\nLIST WEEK 2 BITE CLUB DATE:\n5/8/2022\n\n\nLIST WEEK 3 BI
 TE CLUB DATE:\n5/22/2022\n\n\nLIST WEEK 4 BITE CLUB DATE:\n5/22/2022\n\n\n
 EVENT START TIME\n11:00 AM\n\n\nEVENT END TIME\n5:00 PM\n\n\nGAMES BEING 
 PLAYED\nFour Way Play\nGreedy\nSpaced Out\nThrow N Go\nTime Warp\n\n\n
CATEGORIES:Bite Club,UpDog Events
LOCATION:Southbridge\, MA\, 120 Dudley River Rd\, Southbridge\, MA\, 01550\
 , United States
GEO:42.06453;-72.002007
X-APPLE-STRUCTURED-LOCATION;VALUE=URI;X-ADDRESS=120 Dudley River Rd\, South
 bridge\, MA\, 01550\, United States;X-APPLE-RADIUS=100;X-TITLE=Southbridge
 \, MA:geo:42.06453,-72.002007
END:VEVENT
END:VCALENDAR