BEGIN:VCALENDAR
VERSION:2.0
PRODID:-//wp-events-plugin.com//6.4.7.1//EN
BEGIN:VEVENT
UID:1756@updogchallenge.com
DTSTART:20210728T230000Z
DTEND:20210729T010000Z
DTSTAMP:20210621T215201Z
URL:https://updogchallenge.com/events/southbridge-ma-us-july-28th-boston-a
 rea-disc-dogs/
SUMMARY:Southbridge\, MA\, US - July 28th - Boston Area Disc Dogs
DESCRIPTION:\n\n\nCLUB NAME\nBoston Area Disc Dogs\n\n\nCONTACT NAME\nDebor
 ah Taylor\n\n\nCONTACT EMAIL\nbaddogs617@gmail.com\n\n\nEVENT ADDRESS\n120
  Dudley River Rd\, Southbridge\, Massachusetts 01550-2923\, United States\
 n\n\nEVENT START DATE\n7/28/2021\n\n\nEVENT END DATE\n7/28/2021\n\n\nEVENT
  START TIME\n6:00 PM\n\n\nEVENT END TIME\n8:00 PM\n\n\nGAMES BEING PLAYED
 \nTo Be Determined\n\n\n
CATEGORIES:UpDog Events
LOCATION:Southbridge\, MA\, 120 Dudley River Rd\, Southbridge\, MA\, 01550\
 , United States
GEO:42.06453;-72.002007
X-APPLE-STRUCTURED-LOCATION;VALUE=URI;X-ADDRESS=120 Dudley River Rd\, South
 bridge\, MA\, 01550\, United States;X-APPLE-RADIUS=100;X-TITLE=Southbridge
 \, MA:geo:42.06453,-72.002007
END:VEVENT
END:VCALENDAR