BEGIN:VCALENDAR
VERSION:2.0
PRODID:-//wp-events-plugin.com//6.4.7.1//EN
BEGIN:VEVENT
UID:1239@updogchallenge.com
DTSTART:20200724T230000Z
DTEND:20200725T010000Z
DTSTAMP:20200624T212253Z
URL:https://updogchallenge.com/events/southbridge-ma-us-july-24th-boston-a
 rea-disc-dogs/
SUMMARY:Southbridge\, MA\, US - July 24th - Boston Area Disc Dogs
DESCRIPTION:\n\n\nContact Name\nDeborah Taylor\n\n\nClub/ORG Name\nBoston A
 rea Disc Dogs\n\n\nContact Email address\ntaydeb06@gmail.com\n\n\nClub St
 ate\nMA\n\n\n\n\n\n\nEvent location full Address\n120 Dudley River Rd Sout
 hbridge\, MA 01550\n\n\nStart Date\nJuly 24\, 2020\n\n\nEnd Date\nJuly 24\
 , 2020\n\n\nStart Time\n6:00 PM\n\n\nEnd Time\n8:00 PM\n\n\nGames you want
  to offer\n\n\nGreedy\, frizgility\n\n\n\n\n\n\n\nAny other event informat
 ion?\nThis is part of a 4 week series of Friday night games.\n\n\n
CATEGORIES:UpDog Events
LOCATION:Southbridge\, MA\, 120 Dudley River Rd\, Southbridge\, MA\, 01550\
 , United States
GEO:42.06453;-72.002007
X-APPLE-STRUCTURED-LOCATION;VALUE=URI;X-ADDRESS=120 Dudley River Rd\, South
 bridge\, MA\, 01550\, United States;X-APPLE-RADIUS=100;X-TITLE=Southbridge
 \, MA:geo:42.06453,-72.002007
END:VEVENT
END:VCALENDAR