BEGIN:VCALENDAR
VERSION:2.0
PRODID:-//wp-events-plugin.com//6.4.7.1//EN
BEGIN:VEVENT
UID:3641@updogchallenge.com
DTSTART:20240723T220000Z
DTEND:20240724T010000Z
DTSTAMP:20240628T013549Z
URL:https://updogchallenge.com/events/southbridge-ma-us-july-23rd-face-to-
 face-disc-club/
SUMMARY:Southbridge\, MA\, US - July 23rd - Face to Face Disc Club
DESCRIPTION:\n\n\nCLUB NAME\nFace to Face Disc Club\n\n\nCONTACT NAME\nDebo
 rah Taylor\n\n\nCONTACT EMAIL\nfacetofacedogsports@gmail.com\n\n\nEVENT AD
 DRESS\n120 Dudley River Road\, Southbridge\, MA 01550\, United States\n\n\
 nEVENT START DATE\n7/23/2024\n\n\nEVENT END DATE\n7/23/2024\n\n\nEVENT ST
 ART TIME\n5:00 PM\n\n\nEVENT END TIME\n8:00 PM\n\n\nGAMES BEING PLAYED\nTo
  Be Determined\n\n\n
CATEGORIES:UpDog Events
LOCATION:Southbridge\, MA\, 120 Dudley River Rd\, Southbridge\, MA\, 01550\
 , United States
GEO:42.06453;-72.002007
X-APPLE-STRUCTURED-LOCATION;VALUE=URI;X-ADDRESS=120 Dudley River Rd\, South
 bridge\, MA\, 01550\, United States;X-APPLE-RADIUS=100;X-TITLE=Southbridge
 \, MA:geo:42.06453,-72.002007
END:VEVENT
END:VCALENDAR