BEGIN:VCALENDAR
VERSION:2.0
PRODID:-//wp-events-plugin.com//6.4.7.1//EN
BEGIN:VEVENT
UID:4657@updogchallenge.com
DTSTART:20260912T130000Z
DTEND:20260913T210000Z
DTSTAMP:20251017T010557Z
URL:https://updogchallenge.com/events/shermans-dale-pa-us-sept-12th-13th-w
 oof-pack-disc-dogs-triple-crown/
SUMMARY:Shermans Dale\, PA\, US - Sept 12th & 13th - Woof Pack Disc Dogs - 
 Triple Crown
DESCRIPTION:\n\n\nClub Name\nWoof Pack Disc Dogs\n\n\nContact Name\nEmily L
 eiby\n\n\nContact Email\nwoofpackdiscdogs@gmail.com\n\n\nEvent Address\n31
 6 Old State Rd\, Shermans Dale\, PA 17090\, United States\n\n\nEvent Start
  Date\n9/12/2026\n\n\nEvent End Date\n9/13/2026\n\n\nEvent Start Time\n8:
 00 AM\n\n\nEvent End Time\n4:00 PM\n\n\nGames Being Played\nTo Be Determin
 ed\n\n\nAdditional event information for participants\nFor the most up-to-
 date information\, follow our Facebook page\, Woof Pack Disc Dogs! https:
 //www.facebook.com/woofpackdiscdogs\n\n\n
CATEGORIES:Triple Crown,UpDog Events
LOCATION:Shermans Dale\, Pennsylvania\, 316 Old State Rd\, Shermans Dale\, 
 PA\, 17090\, United States
X-APPLE-STRUCTURED-LOCATION;VALUE=URI;X-ADDRESS=316 Old State Rd\, Shermans
  Dale\, PA\, 17090\, United States;X-APPLE-RADIUS=100;X-TITLE=Shermans Dal
 e\, Pennsylvania:geo:0,0
END:VEVENT
END:VCALENDAR