BEGIN:VCALENDAR
VERSION:2.0
PRODID:-//wp-events-plugin.com//6.4.7.1//EN
BEGIN:VEVENT
UID:1759@updogchallenge.com
DTSTART:20210808T133000Z
DTEND:20210808T220000Z
DTSTAMP:20210624T181820Z
URL:https://updogchallenge.com/events/sherbrooke-qc-ca-aug-8th-accrocanin/
SUMMARY:Sherbrooke\, QC\, CA - Aug 8th - AccroCanin
DESCRIPTION:\n\n\nCLUB NAME\nAccroCanin\n\n\nCONTACT NAME\nJosée Roussy\n\
 n\nCONTACT EMAIL\naccrocanin@gmail.com\n\n\nEVENT ADDRESS\n1873\, rue Jean
 ne-Sauve\, Sherbrooke\, Québec J1H 6L7\, Canada\n\n\nEVENT START DATE\n8/
 8/2021\n\n\nEVENT END DATE\n8/8/2021\n\n\nEVENT START TIME\n8:30 AM\n\n\n
 EVENT END TIME\n5:00 PM\n\n\nGAMES BEING PLAYED\nTo Be Determined\n\n\n
CATEGORIES:UpDog Events
LOCATION:Sherbrooke\, Quebec\, 1873\, rue Jeanne-Sauvé\, Sherbrookie\, Que
 bec\, Canada
GEO:45.3776275;-71.90690660000001
X-APPLE-STRUCTURED-LOCATION;VALUE=URI;X-ADDRESS=1873\, rue Jeanne-Sauvé\, 
 Sherbrookie\, Quebec\, Canada;X-APPLE-RADIUS=100;X-TITLE=Sherbrooke\, Queb
 ec:geo:45.3776275,-71.90690660000001
END:VEVENT
END:VCALENDAR