BEGIN:VCALENDAR
VERSION:2.0
PRODID:-//wp-events-plugin.com//6.4.7.1//EN
BEGIN:VEVENT
UID:2701@updogchallenge.com
DTSTART:20230706T220000Z
DTEND:20230728T010000Z
DTSTAMP:20230406T172409Z
URL:https://updogchallenge.com/events/shelby-oh-us-july-6th-13th-20th-27th
 -bite-club-tgd-disc-dogs/
SUMMARY:Shelby\, OH\, US - July 6th\, 13th\, 20th & 27th - Bite Club - TGD 
 Disc Dogs
DESCRIPTION:\n\n\nCLUB NAME\nTGD Disc Dogs\n\n\nCONTACT NAME\nMARIE BUCKING
 HAM\n\n\nCONTACT EMAIL\nthegateddock@gmail.com\n\n\n\n\n\n\n\n\n\n\nEVENT
  ADDRESS\n7251 OH- 98\, 44875\, Shelby\, OH 44875\, United States\n\n\nEV
 ENT START DATE\n7/6/2023\n\n\nEVENT END DATE\n7/27/2023\n\n\nLIST WEEK 2
  BITE CLUB DATE:\n7/13/2023\n\n\nLIST WEEK 3 BITE CLUB DATE:\n7/20/2023\n\
 n\nLIST WEEK 4 BITE CLUB DATE:\n7/27/2023\n\n\nEVENT START TIME\n5:00 PM\
 n\n\nEVENT END TIME\n8:00 PM\n\n\nGAMES BEING PLAYED\nBoom!\nFar Out\nFou
 r Way Play\nGreedy\nSpaced Out\nThrow N Go\nTime Warp\n\n\nADDITIONAL EVE
 NT INFORMATION FOR PARTICIPANTS\nPool will be available from 5-8pm for a 
 flat fee of $15\, $5 for additional dog\, for those wanting to swim or pra
 ctice their dogs on a first come\, first served rotating basis.\n\n\n
CATEGORIES:Bite Club,UpDog Events
LOCATION:The Gated Dock - Shelby\, OH\, 7251 SR 98\, Shelby\, OH\, 44875\, 
 United States
GEO:40.952892;-82.695022
X-APPLE-STRUCTURED-LOCATION;VALUE=URI;X-ADDRESS=7251 SR 98\, Shelby\, OH\, 
 44875\, United States;X-APPLE-RADIUS=100;X-TITLE=The Gated Dock - Shelby\,
  OH:geo:40.952892,-82.695022
END:VEVENT
END:VCALENDAR