BEGIN:VCALENDAR
VERSION:2.0
PRODID:-//wp-events-plugin.com//6.4.7.1//EN
BEGIN:VEVENT
UID:4040@updogchallenge.com
DTSTART;VALUE=DATE:20251017
DTEND;VALUE=DATE:20251020
DTSTAMP:20250115T014407Z
URL:https://updogchallenge.com/events/seville-oh-us-oct-17th-thru-19th-daw
 g-gone-it/
SUMMARY:Seville\, OH\, US - Oct 17th thru 19th - Dawg Gone It!
DESCRIPTION:\n\n\nClub Name\nDawg Gone It!\n\n\nContact Name\nHeidi Pitts\n
 \n\nContact Email\ngraehm@gmail.com\n\n\nEvent Address\n5628 buffham rd\, 
 Seville\, OH 44273\, United States\n\n\nEvent Start Date\n10/17/2025\n\n\n
 Event End Date\n10/19/2025\n\n\nEvent Start Time\n12:00 PM\n\n\nEvent End
  Time\n6:00 PM\n\n\nGames Being Played\nTo Be Determined\n\n\nAdditional e
 vent information for participants\nThis will be an Ohio State Championship
  where the Ohio clubs come together to put on an amazing event.\n\n\n
CATEGORIES:UpDog Events
LOCATION:Seville\, OH\, 5628 buffham road\, Seville\, OH\, 44273\, United S
 tates
GEO:41.043662;-81.892638
X-APPLE-STRUCTURED-LOCATION;VALUE=URI;X-ADDRESS=5628 buffham road\, Seville
 \, OH\, 44273\, United States;X-APPLE-RADIUS=100;X-TITLE=Seville\, OH:geo:
 41.043662,-81.892638
END:VEVENT
END:VCALENDAR