BEGIN:VCALENDAR
VERSION:2.0
PRODID:-//wp-events-plugin.com//6.4.7.1//EN
BEGIN:VEVENT
UID:3018@updogchallenge.com
DTSTART:20230904T170000Z
DTEND:20230904T220000Z
DTSTAMP:20230822T203848Z
URL:https://updogchallenge.com/events/saskatoon-sk-ca-sept-4th-saskatoon-d
 isc-dogs/
SUMMARY:Saskatoon\, SK\, CA - Sept 4th - Saskatoon Disc Dogs
DESCRIPTION:\n\n\nCLUB NAME\nSaskatoon Disc Dogs\n\n\nCONTACT NAME\nSteven 
 Ustupski\n\n\nCONTACT EMAIL\nSaskatoondiscdogs@gmail.com\n\n\nEVENT ADDRES
 S\nSaskatoon disc field\, Saskatoon\, SK S0k0y0\, Canada\n\n\nEVENT START 
 DATE\n9/4/2023\n\n\nEVENT END DATE\n9/4/2023\n\n\nEVENT START TIME\n12:00
  PM\n\n\nEVENT END TIME\n5:00 PM\n\n\nGAMES BEING PLAYED\nFour Way Play\nT
 hrow N Go\nTime Warp\nTo Be Determined\n\n\n
CATEGORIES:UpDog Events
END:VEVENT
END:VCALENDAR