BEGIN:VCALENDAR
VERSION:2.0
PRODID:-//wp-events-plugin.com//6.4.7.1//EN
BEGIN:VEVENT
UID:78@updogchallenge.com
DTSTART:20151018T130000Z
DTEND:20151018T170000Z
DTSTAMP:20151003T050804Z
URL:https://updogchallenge.com/events/saskatchewan-october-18/
SUMMARY:Saskatchewan October 18
DESCRIPTION:Where?\nClear View Arena\, Saskatchewan\nOctober 18\, 2015\n08:
 00 AM- 12:00 PM\n\n&nbsp\;\nWhich Games?\n4WayPlay\, Frizgility\, Time War
 p\nContact:\nAshley Hoedel\naskatchewan Disc Dogs\nahoedel@hotmail.com\n30
 6 541 5965\n\n&nbsp\;\n\nUpDog Entry Form
CATEGORIES:UpDog Events
END:VEVENT
END:VCALENDAR