BEGIN:VCALENDAR
VERSION:2.0
PRODID:-//wp-events-plugin.com//6.4.7.1//EN
BEGIN:VEVENT
UID:3078@updogchallenge.com
DTSTART:20240406T133000Z
DTEND:20240407T223000Z
DTSTAMP:20230922T141326Z
URL:https://updogchallenge.com/events/salem-or-us-april-6th-7th-willamette
 -valley-disc-dogs/
SUMMARY:Salem\, OR\, US - April 6th & 7th - Willamette Valley Disc Dogs
DESCRIPTION:\n\n\nCLUB NAME\nWillamette Valley Disc Dogs\n\n\nCONTACT NAME\
 nJONICA THOMAS\n\n\nCONTACT EMAIL\njonica.durbin@yahoo.com\n\n\nEVENT ADDR
 ESS\n3995 Brooklake Road NE\, Salem\, OR 97303\, United States\n\n\nEVENT 
 START DATE\n4/6/2024\n\n\nEVENT END DATE\n4/7/2024\n\n\nEVENT START TIME\
 n8:30 AM\n\n\nEVENT END TIME\n5:30 PM\n\n\nGAMES BEING PLAYED\nTo Be Deter
 mined\n\n\n\n
CATEGORIES:UpDog Events
LOCATION:Salem\, Oregon\, 3995 Brooklake Road NE\, Salem\, OR\, 97303\, Uni
 ted States
GEO:45.05229;-122.979961
X-APPLE-STRUCTURED-LOCATION;VALUE=URI;X-ADDRESS=3995 Brooklake Road NE\, Sa
 lem\, OR\, 97303\, United States;X-APPLE-RADIUS=100;X-TITLE=Salem\, Oregon
 :geo:45.05229,-122.979961
END:VEVENT
END:VCALENDAR