BEGIN:VCALENDAR
VERSION:2.0
PRODID:-//wp-events-plugin.com//6.4.7.1//EN
BEGIN:VEVENT
UID:5093@updogchallenge.com
DTSTART:20260430T000000Z
DTEND:20260430T020000Z
DTSTAMP:20260311T012756Z
URL:https://updogchallenge.com/events/saint-john-nb-ca-april-29th-bite-clu
 b-fundy-flyers/
SUMMARY:Saint John\, NB\, CA - April 29th - Bite Club - Fundy Flyers
DESCRIPTION:\n\n\nClub Name\nFundy Flyers\n\n\nContact Name\nAndrea Caines\
 n\n\nContact Email\nandrea_caines54@yahoo.ca\n\n\n\n\n\n\n\n\n\n\nEvent Ad
 dress\n1216 Sand Cove Road\, Saint John\, NB E2M5V8\, Canada\n\n\nEvent St
 art Date\n4/29/2026\n\n\nEvent End Date\n5/20/2026\n\n\nList week 2 Bite C
 lub date:\n5/6/2026\n\n\nList week 3 Bite Club date:\n5/13/2026\n\n\nList 
 week 4 Bite Club date:\n5/20/2026\n\n\nEvent Start Time\n7:00 PM\n\n\nEve
 nt End Time\n9:00 PM\n\n\nGames Being Played\nFireball\nFour Way Play\nGre
 edy\nSpaced Out\nThrow N Go\nTime Warp\n\n\nAdditional event information f
 or participants\nBite Club April 29\, May 6\, May 13 and May 20\nWill be p
 layed right after we finish playing Toss and Fetch\n\nApril 29 - Greedy an
 d Four Way Play\nMay 6 - Spaced Out and Fireball\nMay 13 - Time Warp and G
 reedy\nMay 20 - Four Way Play and Throw n Go Level 2\n\n\n
CATEGORIES:Bite Club,UpDog Events
LOCATION:Saint John\, New Brunswick\, 1216 Sand Cove Rd.\, Saint John\, NB\
 , E2M 5V8\, Canada
X-APPLE-STRUCTURED-LOCATION;VALUE=URI;X-ADDRESS=1216 Sand Cove Rd.\, Saint 
 John\, NB\, E2M 5V8\, Canada;X-APPLE-RADIUS=100;X-TITLE=Saint John\, New B
 runswick:geo:0,0
END:VEVENT
END:VCALENDAR