BEGIN:VCALENDAR
VERSION:2.0
PRODID:-//wp-events-plugin.com//6.4.7.1//EN
BEGIN:VEVENT
UID:3352@updogchallenge.com
DTSTART:20240407T143000Z
DTEND:20240407T214500Z
DTSTAMP:20240127T010244Z
URL:https://updogchallenge.com/events/rochester-mn-us-april-7th-quickwits-
 disc-dogs/
SUMMARY:Rochester\, MN\, US - April 7th - QuickWits Disc Dogs
DESCRIPTION:\n\n\nCLUB NAME\nQuickWits Disc Dogs\n\n\nCONTACT NAME\nAbigail
  Reynolds\n\n\nCONTACT EMAIL\nquickwitsbc@gmail.com\n\n\nEVENT ADDRESS\n28
 00 West River Parkway NW\, Rochester\, Minnesota 55901\, United States\n\n
 \nEVENT START DATE\n4/7/2024\n\n\nEVENT END DATE\n4/7/2024\n\n\nEVENT STA
 RT TIME\n9:30 AM\n\n\nEVENT END TIME\n4:45 PM\n\n\nGAMES BEING PLAYED\nBoo
 m!\nFour Way Play\nFrizgility\nFunKey\nGreedy\n7Up\nSpaced Out\nThrow N Go
 \nTime Warp\n\n\n
CATEGORIES:UpDog Events
LOCATION:River West Park\, Rochester\, MN\, 2800 West River Pkwy NW\, Roche
 ster\, MN\, 55901\, United States
GEO:44.052454;-92.46436699999998
X-APPLE-STRUCTURED-LOCATION;VALUE=URI;X-ADDRESS=2800 West River Pkwy NW\, R
 ochester\, MN\, 55901\, United States;X-APPLE-RADIUS=100;X-TITLE=River Wes
 t Park\, Rochester\, MN:geo:44.052454,-92.46436699999998
END:VEVENT
END:VCALENDAR