BEGIN:VCALENDAR
VERSION:2.0
PRODID:-//wp-events-plugin.com//6.4.7.1//EN
BEGIN:VEVENT
UID:183@updogchallenge.com
DTSTART:20161105T140000Z
DTEND:20161106T190000Z
DTSTAMP:20160917T205848Z
URL:https://updogchallenge.com/events/regina-sk-nov-5-6/
SUMMARY:Regina Sk Nov 5-6
DESCRIPTION:Contact : Sal Evans\nSask Disc Dogs\nsevans@failedslacker.com\n
 \nEvent location : GCJ Stables. Foxleigh Rd\, Regina\, SK\n\nNovember 5-6\
 , 2016\n9:00 AM - 2:00 PM\n\nGames : 4WayPlay\, Frizgility\, Funkey\, Spac
 ed Out\, Time Warp\n\nThis will be an indoor trial hosted at a horse arena
  - lines will be marked with flour.\n\nSaturday will have two rounds each 
 of TimeWarp\, 4Way Play\, &amp\; Spaced Out.\n\nSunday will have two round
 s each of Frizgility and Funkey.\n\nLevels 1 and 2 will be offered for all
  games.\n\nWarm lunch will be provided to competitors each day.\n\nRegistr
 ation Link
CATEGORIES:UpDog Events
LOCATION:GCJ Stables\, Foxleigh Rd\, Regina\, SK\, Canada
GEO:50.4452112;-104.61889439999999
X-APPLE-STRUCTURED-LOCATION;VALUE=URI;X-ADDRESS=Foxleigh Rd\, Regina\, SK\,
  Canada;X-APPLE-RADIUS=100;X-TITLE=GCJ Stables:geo:50.4452112,-104.6188943
 9999999
END:VEVENT
END:VCALENDAR