BEGIN:VCALENDAR
VERSION:2.0
PRODID:-//wp-events-plugin.com//6.4.7.1//EN
BEGIN:VEVENT
UID:2164@updogchallenge.com
DTSTART:20220904T150000Z
DTEND:20220904T220000Z
DTSTAMP:20220516T191422Z
URL:https://updogchallenge.com/events/reading-pa-us-sept-4th-reading-disc-
 club-mohnton-muggers-triple-crown/
SUMMARY:Reading\, PA\, US - Sept 4th - Reading Disc Club/Mohnton Muggers - 
 Triple Crown
DESCRIPTION:\n\n\nCLUB NAME\nReading Disc Club/ Mohnton Muggers\n\n\nCONTAC
 T NAME\nAnn Flemming\n\n\nCONTACT EMAIL\nmohntonmuggers@yahoo.com\n\n\nEVE
 NT ADDRESS\n4899 Stoudts Ferry Bridge Rd\, Reading\, Pa 19605\, United Sta
 tes\n\n\nEVENT START DATE\n9/4/2022\n\n\nEVENT END DATE\n9/4/2022\n\n\nEVE
 NT START TIME\n10:00 AM\n\n\nEVENT END TIME\n5:00 PM\n\n\nGAMES BEING PLA
 YED\nFour Way Play\nTo Be Determined\nTime Warp\n\n\nADDITIONAL EVENT INFO
 RMATION FOR PARTICIPANTS\nThis Is the Triple Crown Event. We may have time
  to add one extra game for points\nThis will be Time Warp\, Boom and 4wp\n
 Possibly Far Out !\n\n\n
CATEGORIES:Triple Crown,UpDog Events
LOCATION:Jim Dietrich Park\, Reading\, PA\, 4899 Stoudts Ferry Bridge Rd\, 
 Reading\, PA\, 19540\, United States
GEO:40.404383;-75.969977
X-APPLE-STRUCTURED-LOCATION;VALUE=URI;X-ADDRESS=4899 Stoudts Ferry Bridge R
 d\, Reading\, PA\, 19540\, United States;X-APPLE-RADIUS=100;X-TITLE=Jim Di
 etrich Park\, Reading\, PA:geo:40.404383,-75.969977
END:VEVENT
END:VCALENDAR