BEGIN:VCALENDAR
VERSION:2.0
PRODID:-//wp-events-plugin.com//6.4.7.1//EN
BEGIN:VEVENT
UID:1709@updogchallenge.com
DTSTART:20210530T223000Z
DTEND:20210531T020000Z
DTSTAMP:20210522T195117Z
URL:https://updogchallenge.com/events/reading-pa-us-may-30th-mohnton-mugge
 rs/
SUMMARY:Reading\, PA\, US - May 30th - Mohnton Muggers
DESCRIPTION:\n\n\nCLUB NAME\nMohnton Muggers\n\n\nCONTACT NAME\nAnn Flemmin
 g\n\n\nCONTACT EMAIL\nmohntonmuggers@yahoo.com\n\n\nEVENT ADDRESS\nJim Di
 etrich Park\, 4899 Stoudts Ferry Bridge Rd\, Reading\, PA 19540\, United S
 tates\n\n\nEVENT START DATE\n5/30/2021\n\n\nEVENT END DATE\n5/30/2021\n\
 n\nEVENT START TIME\n5:30 PM\n\n\nEVENT END TIME\n9:00 PM\n\n\nGAMES BEI
 NG PLAYED\nFour Way Play\nTime Warp\n\n\nADDITIONAL EVENT INFORMATION FO
 R PARTICIPANTS\nBite Club will start after the Skyhoundz Event ends. Mid
  Atlantic Disc Dogs are making the field available to us AFTER DiscDogAtho
 n. Start time is approximate. We will take registration for Bite Club th
 e day of the event. Payment will be by Cash or Paypal. Cost to be deterrm
 ined.. More details to Follow.\n\n\n
CATEGORIES:UpDog Events
LOCATION:Jim Dietrich Park\, Reading\, PA\, 4899 Stoudts Ferry Bridge Rd\, 
 Reading\, PA\, 19540\, United States
GEO:40.404383;-75.969977
X-APPLE-STRUCTURED-LOCATION;VALUE=URI;X-ADDRESS=4899 Stoudts Ferry Bridge R
 d\, Reading\, PA\, 19540\, United States;X-APPLE-RADIUS=100;X-TITLE=Jim Di
 etrich Park\, Reading\, PA:geo:40.404383,-75.969977
END:VEVENT
END:VCALENDAR