BEGIN:VCALENDAR
VERSION:2.0
PRODID:-//wp-events-plugin.com//6.4.7.1//EN
BEGIN:VEVENT
UID:4172@updogchallenge.com
DTSTART:20250510T140000Z
DTEND:20250511T230000Z
DTSTAMP:20250225T193820Z
URL:https://updogchallenge.com/events/ramsey-mn-us-may-10th-11th-minnesota
 -disc-dog-club/
SUMMARY:Ramsey\, MN\, US - May 10th & 11th - Minnesota Disc Dog Club
DESCRIPTION:\n\n\nClub Name\nMinnesota Disc Dog Club\n\n\nContact Name\nBai
 lee Motter\n\n\nContact Email\nbmotter21@gmail.com\n\n\nEvent Address\n\nR
 amsey Central Park\n7925 161st Ave NW\, Ramsey\, MN 55303\n\n\nEvent Start
  Date\n5/10/2025\n\n\nEvent End Date\n5/11/2025\n\n\nEvent Start Time\n9:
 00 AM\n\n\nEvent End Time\n6:00 PM\n\n\nGames Being Played\nFar Out\nFour 
 Way Play\nFrizgility\nFunKey\nThrow N Go\nTime Warp\n\n\nFar Out Field Len
 gth in Yards:\n100+yds\n\n\n
CATEGORIES:UpDog Events
LOCATION:Ramsey Central Park\, Ramsey\, MN\, 7925 161st Ave NW\, Ramsey\, M
 N\, 55303\, United States
X-APPLE-STRUCTURED-LOCATION;VALUE=URI;X-ADDRESS=7925 161st Ave NW\, Ramsey\
 , MN\, 55303\, United States;X-APPLE-RADIUS=100;X-TITLE=Ramsey Central Par
 k\, Ramsey\, MN:geo:0,0
END:VEVENT
END:VCALENDAR