BEGIN:VCALENDAR
VERSION:2.0
PRODID:-//wp-events-plugin.com//6.4.7.1//EN
BEGIN:VEVENT
UID:3570@updogchallenge.com
DTSTART:20240712T230000Z
DTEND:20240713T023000Z
DTSTAMP:20240604T205047Z
URL:https://updogchallenge.com/events/queensland-ns-ca-july-12th-gale-forc
 e-disc-dogs/
SUMMARY:Queensland\, NS\, CA - July 12th - Gale Force Disc Dogs
DESCRIPTION:\n\n\nCLUB NAME\nGale Force Disc Dogs\n\n\nCONTACT NAME\nAshley
  McGuiness\n\n\nCONTACT EMAIL\ngaleforcediscdogs@gmail.com\n\n\nEVENT ADDR
 ESS\n9856 Queensland Lane\, Queensland\, NS B0J 1T0\, Canada\n\n\nEVENT ST
 ART DATE\n7/12/2024\n\n\nEVENT END DATE\n7/12/2024\n\n\nEVENT START TIME\
 n6:00 PM\n\n\nEVENT END TIME\n9:30 PM\n\n\nGAMES BEING PLAYED\nFrizgility\
 nGreedy\nTime Warp\n\n\n
CATEGORIES:UpDog Events
LOCATION:Hubbards Recreation Centre - Queensland\, Nova Scotia\, 9856 Queen
 sland Ln\, Queensland\, Nova Scotia\, B0J 1T0\, Canada
GEO:44.640318;-64.038811
X-APPLE-STRUCTURED-LOCATION;VALUE=URI;X-ADDRESS=9856 Queensland Ln\, Queens
 land\, Nova Scotia\, B0J 1T0\, Canada;X-APPLE-RADIUS=100;X-TITLE=Hubbards 
 Recreation Centre - Queensland\, Nova Scotia:geo:44.640318,-64.038811
END:VEVENT
END:VCALENDAR