BEGIN:VCALENDAR
VERSION:2.0
PRODID:-//wp-events-plugin.com//6.4.7.1//EN
BEGIN:VEVENT
UID:2132@updogchallenge.com
DTSTART:20220503T190000Z
DTEND:20220525T003000Z
DTSTAMP:20220429T153658Z
URL:https://updogchallenge.com/events/princeton-il-us-may-3rd-10th-17th-24
 th-bite-club-harmony-training-club/
SUMMARY:Princeton\, IL\, US - May 3rd\, 10th\, 17th & 24th - Bite Club - Ha
 rmony Training Club
DESCRIPTION:\n\n\nCLUB NAME\nHarmony Training Club\n\n\nCONTACT NAME\nLynet
 te VandeVenter\n\n\nCONTACT EMAIL\nfirstharmonyfarms@yahoo.com\n\n\n\n\n\n
 \n\n\n\n\n\nField is behind Princeton Animal Care Clinic. Fully fenced in.
 \n\n\nEVENT ADDRESS\n1616 North Main Street\, Princeton\, Illinois 61356\,
  United States\n\n\nEVENT START DATE\n5/3/2022\n\n\nEVENT END DATE\n5/3/20
 22\n\n\nLIST WEEK 2 BITE CLUB DATE:\n5/10/2022\n\n\nLIST WEEK 3 BITE CLUB 
 DATE:\n5/17/2022\n\n\nLIST WEEK 4 BITE CLUB DATE:\n5/24/2022\n\n\nEVENT S
 TART TIME\n2:00 PM\n\n\nEVENT END TIME\n7:30 PM\n\n\n
CATEGORIES:Bite Club,UpDog Events
LOCATION:Animal Care Clinic - Princeton\, IL\, 1616 N Main St\, Princeton\,
  IL\, 61356\, United States
GEO:41.3906437;-89.46647899999999
X-APPLE-STRUCTURED-LOCATION;VALUE=URI;X-ADDRESS=1616 N Main St\, Princeton\
 , IL\, 61356\, United States;X-APPLE-RADIUS=100;X-TITLE=Animal Care Clinic
  - Princeton\, IL:geo:41.3906437,-89.46647899999999
END:VEVENT
END:VCALENDAR