BEGIN:VCALENDAR
VERSION:2.0
PRODID:-//wp-events-plugin.com//6.4.7.1//EN
BEGIN:VEVENT
UID:733@updogchallenge.com
DTSTART;VALUE=DATE:20190126
DTEND;VALUE=DATE:20190128
DTSTAMP:20190121T180544Z
URL:https://updogchallenge.com/events/princeton-il-us-jan-26th-27th-harmon
 y-training-club/
SUMMARY:Princeton\, IL\, US - Jan 26th & 27th - Harmony Training Club
DESCRIPTION:\n\n\nContact Name\nLynette VandeVenter\n\n\nClub/ORG Name\nHar
 mony Training Club\n\n\nContact Email address\nFIRSTHARMONYFARMS@YAHOO.CO
 M\n\n\nClub State\nIllinois\n\n\n\n\n\n\nEvent location full Address\nAni
 mal Care Clinic 1616 N Main St\, Princeton\, IL 61356\n\n\nStart Date\nJan
 uary 26\, 2019\n\n\nEnd Date\nJanuary 27\, 2019\n\n\n\n\n\n\nGames you wan
 t to offer\n4WayPlay\, ThrowNGo\, Frizgility\, Spaced Out\, Time Warp\, Fa
 rOut\n\n\n\n\n\n\nAny other event information?\nharmonytrainingclub.com\n\
 nSat-2 Throw and Go\, 2 Time Warp\, 2 Frizgility\nSun-2 Far Out\, 2 4 Way 
 Play\, 2 Spaced Out\n\n\n\n
CATEGORIES:UpDog Events
LOCATION:Animal Care Clinic - Princeton\, IL\, 1616 N Main St\, Princeton\,
  IL\, 61356\, United States
GEO:41.3906437;-89.46647899999999
X-APPLE-STRUCTURED-LOCATION;VALUE=URI;X-ADDRESS=1616 N Main St\, Princeton\
 , IL\, 61356\, United States;X-APPLE-RADIUS=100;X-TITLE=Animal Care Clinic
  - Princeton\, IL:geo:41.3906437,-89.46647899999999
END:VEVENT
END:VCALENDAR