BEGIN:VCALENDAR
VERSION:2.0
PRODID:-//wp-events-plugin.com//6.4.7.1//EN
BEGIN:VEVENT
UID:1631@updogchallenge.com
DTSTART:20210409T140000Z
DTEND:20210413T000000Z
DTSTAMP:20210322T182642Z
URL:https://updogchallenge.com/events/princeton-il-us-april-9th-thru-12th-
 harmony-training-club/
SUMMARY:Princeton\, IL\, US - April 9th thru 12th - Harmony Training Club
DESCRIPTION:\n\n\nCLUB NAME\nHarmony Training Club\n\n\nCONTACT NAME\nLynet
 te VandeVenter\n\n\nCONTACT EMAIL\nfirstharmonyfarms@yahoo.com\n\n\nEVENT
  ADDRESS\n1616 N Main Street\, Princeton\, IL 61356\, United States\n\n\n
 EVENT START DATE\n4/9/2021\n\n\nEVENT END DATE\n4/12/2021\n\n\nEVENT ST
 ART TIME\n9:00 AM\n\n\nEVENT END TIME\n7:00 PM\n\n\nGAMES BEING PLAYED\nT
 o Be Determined\n\n\n
CATEGORIES:UpDog Events
LOCATION:Animal Care Clinic - Princeton\, IL\, 1616 N Main St\, Princeton\,
  IL\, 61356\, United States
GEO:41.3906437;-89.46647899999999
X-APPLE-STRUCTURED-LOCATION;VALUE=URI;X-ADDRESS=1616 N Main St\, Princeton\
 , IL\, 61356\, United States;X-APPLE-RADIUS=100;X-TITLE=Animal Care Clinic
  - Princeton\, IL:geo:41.3906437,-89.46647899999999
END:VEVENT
END:VCALENDAR