BEGIN:VCALENDAR
VERSION:2.0
PRODID:-//wp-events-plugin.com//6.4.7.1//EN
BEGIN:VEVENT
UID:1173@updogchallenge.com
DTSTART:20200403T133000Z
DTEND:20200405T210000Z
DTSTAMP:20200318T171331Z
URL:https://updogchallenge.com/events/princeton-il-us-april-3rd-5th-harmon
 y-training-club/
SUMMARY:Cancelled - Princeton\, IL\, US - April 3rd - 5th - Harmony Trainin
 g Club
DESCRIPTION:This event has been cancelled.\n\n\n\nContact Name\nLynette Van
 deVenter\n\n\nClub/ORG Name\nHarmony Training Club\n\n\nContact Email add
 ress\nfirstharmonyfarms@yahoo.com\n\n\nClub State\nIllinois\n\n\n\n\n\n\n
 Event location full Address\n1616 North Main Street Princeton\, Illinois 6
 1356\n\n\nStart Date\nApril 3\, 2020\n\n\nEnd Date\nApril 5\, 2020\n\n\nSt
 art Time\n2:00 PM Fri\; 8:30AM Sat &amp\; Sun\n\n\nEnd Time\n4:00 PM\n\n\n
 Games you want to offer\nThrowNGo\, Frizgility\, Funkey\, Spaced Out\, Tim
 e Warp\, FarOut\, Greedy\n\n\n\n\n\n\nAny other event information?\nwww.ha
 rmonytrainingclub.com\n\n\n
CATEGORIES:UpDog Events
LOCATION:Main St Princeton IL\, 1616 N Main St\, Princeton\, IL\, 61356\, U
 nited States
GEO:41.3906437;-89.46647899999999
X-APPLE-STRUCTURED-LOCATION;VALUE=URI;X-ADDRESS=1616 N Main St\, Princeton\
 , IL\, 61356\, United States;X-APPLE-RADIUS=100;X-TITLE=Main St Princeton 
 IL:geo:41.3906437,-89.46647899999999
END:VEVENT
END:VCALENDAR