BEGIN:VCALENDAR
VERSION:2.0
PRODID:-//wp-events-plugin.com//6.4.7.1//EN
BEGIN:VEVENT
UID:1807@updogchallenge.com
DTSTART;VALUE=DATE:20210925
DTEND;VALUE=DATE:20210927
DTSTAMP:20210802T184405Z
URL:https://updogchallenge.com/events/pratnica-poland-sept-25th-26th-winte
 r-is-coming/
SUMMARY:Pratnica\, Poland - Sept 25th & 26th - Winter Is Coming
DESCRIPTION:\n\n\nCLUB NAME\nWinter is coming\n\n\nCONTACT NAME\nKatarzyna 
 Kamińska\n\n\nCONTACT EMAIL\nwinteriscomingdogfrisbee@gmail.com\n\n\nEVEN
 T ADDRESS\nSzkoła Podstawowa w Prątnicy\, Prątnica 9\, Prątnica\, Warm
 ińsko-Mazurskie 14-260\, Poland\n\n\nEVENT START DATE\n9/25/2021\n\n\nEVE
 NT END DATE\n9/26/2021\n\n\nEVENT START TIME\n8:00 AM\n\n\nEVENT END TIME
 \n6:30 PM\n\n\nGAMES BEING PLAYED\nFar Out\nFrizgility\nThrow N Go\nTime W
 arp\n\n\n
CATEGORIES:UpDog Events
LOCATION:Pratnica\, Poland\, Szkoła Podstawowa w Prątnicy\, Prątnica 9\,
  Prątnica\, Warmińsko-Mazurskie\, Pratnica\, 14-260\, Poland
GEO:53.476497;19.812353
X-APPLE-STRUCTURED-LOCATION;VALUE=URI;X-ADDRESS=Szkoła Podstawowa w Prątn
 icy\, Prątnica 9\, Prątnica\, Warmińsko-Mazurskie\, Pratnica\, 14-260\,
  Poland;X-APPLE-RADIUS=100;X-TITLE=Pratnica\, Poland:geo:53.476497,19.8123
 53
END:VEVENT
END:VCALENDAR