BEGIN:VCALENDAR
VERSION:2.0
PRODID:-//wp-events-plugin.com//6.4.7.1//EN
BEGIN:VEVENT
UID:119@updogchallenge.com
DTSTART:20160723T140000Z
DTEND:20160724T213000Z
DTSTAMP:20160309T102940Z
URL:https://updogchallenge.com/events/poland-updog-3-sopot-july-23-24/
SUMMARY:Poland UpDog #3 Sopot July 23-24
DESCRIPTION:Flying Dogs Sopot\nLatajace Psy Sopot\nDariusz Radomski\nFlying
  Dogs Poland\ndariusz.ra@gmail.com\n\nEvent location\nPark Polnocny\, Sopo
 t\, Poland\n\nJuly 23.24 2016\n9:00 AM - 4:30 PM\n\nGames: ThrowNGo\, Friz
 gility\, Freestyle\, FarOut\n\nhttp://www.latajacepsy.org/
CATEGORIES:UpDog Events
LOCATION:Park Polnocny\, Park Polnocny\, Sopot\, Poland\, Sopot\, Poland
GEO:54.4555506;18.561796100000038
X-APPLE-STRUCTURED-LOCATION;VALUE=URI;X-ADDRESS=Park Polnocny\, Sopot\, Pol
 and\, Sopot\, Poland;X-APPLE-RADIUS=100;X-TITLE=Park Polnocny:geo:54.45555
 06,18.561796100000038
END:VEVENT
END:VCALENDAR