BEGIN:VCALENDAR
VERSION:2.0
PRODID:-//wp-events-plugin.com//6.4.7.1//EN
BEGIN:VEVENT
UID:998@updogchallenge.com
DTSTART;VALUE=DATE:20191115
DTEND;VALUE=DATE:20191118
DTSTAMP:20191007T020055Z
URL:https://updogchallenge.com/events/pittsburgh-pa-us-nov-15th-17th-k9-sp
 orts-events/
SUMMARY:Pittsburgh\, PA\, US - Nov 15th - 17th - K9 Sports Events
DESCRIPTION:\n\n\nContact Name\nJason Rigler\n\n\nClub/ORG Name\nK9 Sports 
 Events\n\n\nContact Email address\njason@webmanna.com\n\n\nClub State\nMO
 \n\n\n\n\n\n\nEvent location full Address\nDavid L. Lawrence Convention Ce
 nter Pittsburgh\, PA 15222\n\n\nStart Date\nNovember 15\, 2019\n\n\nEnd Da
 te\nNovember 17\, 2019\n\n\nGames you want to offer\n4WayPlay\, ThrowNGo\,
  Frizgility\, Freestyle\, Time Warp\, Greedy\n\n\n\n\n\n\nAny other event 
 information?\nThe Pittsburgh UpDog Knockout returns and this time we are a
 dding squads.\n\nSo get your squad together and prepare to knockout the co
 mpetition.\n\nThe UpDog Challenge is hosting a one of a kind event at the
  Pittsburg Pet Expo.\n\nThis unique competition combines dogs and humans a
 nd frisbees for an exciting race to accumulate the most points in a variet
 y of games.   Friday is open and wildcard games.   Saturday squads made 
 up of 4 teams will go head to head and Sunday teams will go head to head i
 n single elimination brackets. The winner advances for a chance at the cha
 mpionship. Who will be the top teams?  It’s march madness with dogs and
  frisbees\, in the great city of Pittsburgh.   http://pghpetexpo.com/ind
 ex.html\n\nNADD Dock Diving also at this event.\n\nThis event is indoors o
 n agility mats.  You will park nearby and crate inside beside the field.\
 nThere will be great crowds and also a section curtained off for crating.\
 n\n&nbsp\;\n\nThere are 2 different knockout brackets and some open games 
 at this event.   Saturdays knockout bracket is squad vs squad .  Sundays
  knockout bracket is team vs team.  And Friday we will play freestyle and
  pairs TnGo.\n\nFriday  5-9pm\nFreestyle / Pairs ThrowNGo. ($10 per round
 ).  Freestyle will be L1 or L2 Performance\nWe should also have time to a
 dd some wildcard games on Friday.\n\n&nbsp\;\n\nSaturday – 10am-8pm\n\nS
 quads\, made up of 4 teams each\, will compete in a single elimination kno
 ckout bracket.   Squads will be randomly ranked in a bracket and face off
  head to head with other squads. All 4 teams play the game\, the squads po
 ints are cumulative.  The squad with the most total points for that game 
 will advance to the next round.     Squads must play all 3 games  4wp\,
  TW\, L1 TnGo. Each game has its own bracket and champion.\n\n$30 per team
  per squad\n\nSunday. 10am-5pm\nthis is a team vs team\, head to head elim
 ination bracket.   You will be ranked per game and placed in a bracket. 
  Each team matched against another team.   The team that wins (scores mo
 re points) advances to the next round.  The other team is eliminated.  F
 irst and last round are full rounds. The middle rounds will be rush rounds
 \, reduced time\, same rules.   We will play Friz\, Greedy\, L2 TnGo\n\n
 $10 per team per game\n\n\nHead to Head elimination\n( you will be seeded 
 and placed in a single elimination bracket.  up to 30 total teams. 1st ro
 und and final round will be 1 minute.  All other rounds will be modified 
 to 30secs only.    Finals teams could play 5 rounds per game which would
  be 3.5 mins total.   Most teams will get 2 mins of total play.\nTop 3 g
 et Ribbons and top teams/squad earns a cash payout\n\nRegistration :\n\nSa
 turday $30 per team\nFriday/Sunday – $10 per round\n\nYou do not have to
  pay more if you advance to later rounds.\n\nVOLUNTEER AND SAVE – messag
 e me and let me know how you’d like to help – I’ll send you a discou
 nt code.\n\nPlayers Packs:\n\n$20 for a shirt\, disc and other goodies\n\n
 \n\nREGISTER\n[dt_button size="big" animation="none" icon="" icon_align="l
 eft" color="Orange" link="https://updogchallenge.com/product/pittsburgh-pe
 t-expo-knockout-2019/" target_blank="true"]Sign Up[/dt_button]
CATEGORIES:UpDog Events
LOCATION:David L Lawrence Convention Center\, 1000 Fort Duquesne Blvd\, \, 
 Pittsburgh\, PA\, 15222\, United States
GEO:40.445593;-79.9965431
X-APPLE-STRUCTURED-LOCATION;VALUE=URI;X-ADDRESS=1000 Fort Duquesne Blvd\, \
 , Pittsburgh\, PA\, 15222\, United States;X-APPLE-RADIUS=100;X-TITLE=David
  L Lawrence Convention Center:geo:40.445593,-79.9965431
END:VEVENT
END:VCALENDAR