BEGIN:VCALENDAR
VERSION:2.0
PRODID:-//wp-events-plugin.com//6.4.7.1//EN
BEGIN:VEVENT
UID:2783@updogchallenge.com
DTSTART:20230630T220000Z
DTEND:20230701T010000Z
DTSTAMP:20230525T144154Z
URL:https://updogchallenge.com/events/pine-grove-pa-us-june-30th-reading-d
 isc-dogs/
SUMMARY:Pine Grove\, PA\, US - June 30th - Reading Disc Dogs
DESCRIPTION:\n\n\nCLUB NAME\nReading Disc Dogs\n\n\nCONTACT NAME\nAnn Flemm
 ing\n\n\nCONTACT EMAIL\nmohntonmuggers@yahoo.com\n\n\nEVENT ADDRESS\n918 
 Long Run Rd\, Pine Grove\, Pa 17963\, United States\n\n\nEVENT START DATE
 \n6/30/2023\n\n\nEVENT END DATE\n6/30/2023\n\n\nEVENT START TIME\n5:00 P
 M\n\n\nEVENT END TIME\n8:00 PM\n\n\nGAMES BEING PLAYED\nTo Be Determined\
 n\n\nADDITIONAL EVENT INFORMATION FOR PARTICIPANTS\n\n\n\n
CATEGORIES:UpDog Events
LOCATION:Pine Grove\, PA\, 918 Long Run Rd\, Pine Grove\, PA\, 17963\, Unit
 ed States
GEO:40.589527;-76.274998
X-APPLE-STRUCTURED-LOCATION;VALUE=URI;X-ADDRESS=918 Long Run Rd\, Pine Grov
 e\, PA\, 17963\, United States;X-APPLE-RADIUS=100;X-TITLE=Pine Grove\, PA:
 geo:40.589527,-76.274998
END:VEVENT
END:VCALENDAR