BEGIN:VCALENDAR
VERSION:2.0
PRODID:-//wp-events-plugin.com//6.4.7.1//EN
BEGIN:VEVENT
UID:1374@updogchallenge.com
DTSTART:20200908T223000Z
DTEND:20200909T013000Z
DTSTAMP:20200821T200708Z
URL:https://updogchallenge.com/events/pilot-mountain-nc-us-sept-8th-jam-mi
 n-disc-dogs-crossover-crown/
SUMMARY:Pilot Mountain\, NC\, US - Sept 8th - Jam-Min' Disc Dogs - Crossove
 r Crown
DESCRIPTION:\n\n\nCLUB NAME\nJam-Min' Disc Dogs\n\n\nCONTACT NAME\nCJ Fithi
 an\n\n\nCONTACT EMAIL\njammindogsports@icloud.com\n\n\nEVENT ADDRESS\n114
 0 Matthews Rd\, Pilot Mountain\, NC 27041\, United States\n\n\nEVENT STAR
 T DATE\n9/8/2020\n\n\nEVENT END DATE\n9/8/2020\n\n\nEVENT START TIME\n5:
 30 PM\n\n\nEVENT END TIME\n8:30 PM\n\n\nGAMES BEING PLAYED\nFrizgility\nF
 unKey\n7Up\n\n\nADDITIONAL EVENT INFORMATION FOR PARTICIPANTS\nCrossover
  Crown event. $8/run\, "no frills" (no local awards). No pre-registration
 . Payments accepted: cash\, check (CJ Fithian) or PayPal (cjfithian@mac.co
 m).\n\nWe will play Frizgility and FunKey on 9/8. On 9/15\, we will comple
 te any unfinished FunKey rounds and then play 7Up.\n\nThursday will be a "
 backup day"\, should we be rained out on our official date\, as well as fo
 r social-distancing to minimize large group gatherings.\n\nThe Crossover C
 rown will run like a local event\, with worldwide competition!!! UpDog Bi
 te Club will award the top teams overall and the top clubs. If you play mu
 ltiple rounds of the same crossover game\, the first round will count towa
 rd the Crossover Crown. Teams may play in multiple Crossover Crown events
  with different clubs\, but only their first scores will be counted towar
 d the Crossover Crown competition.\n\n\n
CATEGORIES:UpDog Events
LOCATION:Jam'Min Dog Sports Field\, 1140 Matthews Rd\, Pilot Mountain\, NC\
 , 27041\, United States
GEO:36.409663;-80.47224699999998
X-APPLE-STRUCTURED-LOCATION;VALUE=URI;X-ADDRESS=1140 Matthews Rd\, Pilot Mo
 untain\, NC\, 27041\, United States;X-APPLE-RADIUS=100;X-TITLE=Jam'Min Dog
  Sports Field:geo:36.409663,-80.47224699999998
END:VEVENT
END:VCALENDAR