BEGIN:VCALENDAR
VERSION:2.0
PRODID:-//wp-events-plugin.com//6.4.7.1//EN
BEGIN:VEVENT
UID:1512@updogchallenge.com
DTSTART:20210904T140000Z
DTEND:20210906T230000Z
DTSTAMP:20210715T201541Z
URL:https://updogchallenge.com/events/pilot-mountain-nc-us-sept-4th-thru-6
 th-jam-min-disc-dogs/
SUMMARY:Pilot Mountain\, NC\, US - Sept 4th thru 6th - Jam-Min' Disc Dogs -
  Triple Crown
DESCRIPTION:\n\n\nCLUB NAME\nJam-Min' Disc Dogs\n\n\nCONTACT NAME\nCarolyn 
 Fithian\n\n\nCONTACT EMAIL\njammindogsports@icloud.com\n\n\nEVENT ADDRESS
 \n1140 Matthews Rd\, Pilot Mountain\, NC 27041\, United States\n\n\nEVENT
  START DATE\n9/4/2021\n\n\nEVENT END DATE\n9/6/2021\n\n\nEVENT START TI
 ME\n9:00 AM\n\n\nEVENT END TIME\n6:00 PM\n\n\nGAMES BEING PLAYED\nFar Out
 \nThrow N Go\nFour Way Play\nTime Warp\nFreestyle\nFrizgility\nFunKey\nGre
 edy\n7Up\nSpaced Out\n\n\nADDITIONAL EVENT INFORMATION FOR PARTICIPANTS\
 nPre-registration link: https://tinyurl.com/laborjamminreg2021\n\nDates:
  September 4-6\, 2021\nTime: 9am-5pm with DOS Registration at 8:30 am. P
 layers meeting – 9:00am.\nLocation: 1140 Matthews Rd\, Pilot Mountain NC
  27041\nQuestions: email jammindogsports@icloud.com\; phone-562.686.1764\
 n\nSaturday Games: ThrowNGo &amp\; Pairs\, Freestyle Performance\, Spaced 
 Out\, 4WayPlay &amp\; Pairs\, 7Up\, Frizgility\n\nTRIPLE CROWN: ThrowNGo\,
  Spaced Out and 4WayPlay will be played on Saturday\, 9/4\, beginning appr
 oximately 11:30am\, after Pairs and Freestyle\n\nSunday Games: Frizgility\
 , FunKey\, Greedy\, TimeWarp\, ThrowNGo &amp\; Pairs\n\nMonday Games: Far 
 Out (70 yards)\, Greedy\, 4WayPlay &amp\; Pairs\, TimeWarp\, Spaced Out\n\
 n\nAll Level 2 games are available. Additional rounds are available for pr
 e-registration. When signing up for additional rounds\, please be aware th
 at UpDog has a 10 run limit/dog/day.\n\nPre-Reg closes on Thursday\, Septe
 mber 2nd.\nCombined Pricing for all runs/dogs combined: 1-4 runs and DOS: 
 $12/run. 5-9 runs: $11/run\; 10+ runs: $10/run. For this 3-day event\, $9
 /run for 20+ runs combined. Limit of 10 entries per dog per day.\nPayPal:
  jammindogsports@icloud.com (friends/family). Checks: payable to CJ Fith
 ian\n\nDry camping (no hook-ups) available onsite. $40 for 3 nights or $15
 /night.\n\n.\n\n\n
CATEGORIES:UpDog Events
LOCATION:Jam'Min Dog Sports Field\, 1140 Matthews Rd\, Pilot Mountain\, NC\
 , 27041\, United States
GEO:36.409663;-80.47224699999998
X-APPLE-STRUCTURED-LOCATION;VALUE=URI;X-ADDRESS=1140 Matthews Rd\, Pilot Mo
 untain\, NC\, 27041\, United States;X-APPLE-RADIUS=100;X-TITLE=Jam'Min Dog
  Sports Field:geo:36.409663,-80.47224699999998
END:VEVENT
END:VCALENDAR